BEGIN:VCALENDAR
VERSION:2.0
PRODID:-//hacksw/handcal//NONSGML v1.0//EN
BEGIN:VEVENT
DTSTAMP:20261011T000000Z
DTSTART:20261011T000000Z
DTEND:20261011T020000Z

SUMMARY: Elevation Nights Tour 2026
DESCRIPTION:Elevation Worship & Steven Furtick coming to FedExForum on Saturday, October 10. Don’t miss a powerful night with Pastor Steven Furtick bringing a timely message and Elevation Worship leading favorites like “Praise,” “Trust In God,” and “RATTLE!” alongside new music including “Jesus Be The Name.” The night begins with ELEVATION RHYTHM performing hits like “At The Altar”, "GOODBYE YESTERDAY", and their latest release, “WASHED.” Sign up for the exclusive pre-sale to get your tickets first: https://bit.ly/ENF26Pre-Sale
END:VEVENT
END:VCALENDAR